BEGIN:VCALENDAR
VERSION:2.0
PRODID:-//taviti/caldav-go//NONSGML v1.0.0//EN
BEGIN:VEVENT
UID:fc26e3bb-8b52-49a3-9731-43aa0f4e96bc
DTSTAMP:20260421T125215Z
DTSTART:20250317T190000Z
DURATION:PT1H40M
DESCRIPTION:Practice: 45m0s\nQualify: 15m0s\nRace: 20m0s\nRace (Reverse Grid): 20m0s\n\n24 entrants in: Mazda MX5 Cup
LOCATION:Fawkham, Great Britain
SUMMARY:Event at Brands Hatch - GP OSRW, Fawkham, Great Britain (2025.03.17)
URL;VALUE=URI:https://eu.mx5.ac.tekly.racing/championship/1c4925ce-d81a-4c9d-9983-647d162397cb
END:VEVENT
END:VCALENDAR