BEGIN:VCALENDAR
VERSION:2.0
PRODID:-//taviti/caldav-go//NONSGML v1.0.0//EN
BEGIN:VEVENT
UID:fc42f03e-8b09-4829-abba-ff7428124da4
DTSTAMP:20260421T140657Z
DTSTART:20250721T180000Z
DURATION:PT1H40M
DESCRIPTION:Practice: 30m0s\nQualify: 30m0s\nRace: 20m0s\nRace (Reverse Grid): 20m0s\n\n32 entrants in: Audi R8 LMS 2016, Ferrari 488 GT3, Lamborghini Huracan GT3, Mazda MX5 Cup, McLaren 650S GT3, Nissan GT-R GT3
LOCATION:Monterey, USA
SUMMARY:Event at Laguna Seca OSRW, Monterey, USA (EU Triple R - 300 Member 3 Race Challenge - Race 1 (Laguna Multiclass))
URL;VALUE=URI:https://eu.mx5.ac.tekly.racing/championship/592bf1a9-ae11-49ca-9f01-550a0e8c3a4d
END:VEVENT
END:VCALENDAR