BEGIN:VCALENDAR
VERSION:2.0
PRODID:-//taviti/caldav-go//NONSGML v1.0.0//EN
BEGIN:VEVENT
UID:e987255c-05a0-4661-9a3b-9173e649cf82
DTSTAMP:20260421T125046Z
DTSTART:20250407T180000Z
DURATION:PT1H30M
DESCRIPTION:Practice: 30m0s\nQualify: 15m0s\nRace: 45m0s\n\n28 entrants in: Mazda MX5 Cup
LOCATION:Bowmanville, Canada
SUMMARY:Event at Mosport 2023, Bowmanville, Canada (2025 EU MX5 Open Season)
URL;VALUE=URI:https://eu.mx5.ac.tekly.racing/championship/7181cd2d-b915-4606-86cd-aac1b8c222c9
END:VEVENT
BEGIN:VEVENT
UID:10ecda59-5d64-437a-ac1c-6bfa82d818a5
DTSTAMP:20260421T125046Z
DTSTART:20250414T180000Z
DURATION:PT1H40M
DESCRIPTION:Practice: 45m0s\nQualify: 15m0s\nRace: 20m0s\nRace (Reverse Grid): 20m0s\n\n28 entrants in: Mazda MX5 Cup
LOCATION:Macau, China
SUMMARY:Event at Macau Grand Prix, Macau, China (2025 EU MX5 Open Season)
URL;VALUE=URI:https://eu.mx5.ac.tekly.racing/championship/7181cd2d-b915-4606-86cd-aac1b8c222c9
END:VEVENT
BEGIN:VEVENT
UID:4d3d8426-7c9d-4fc6-baba-3fc955f83bd5
DTSTAMP:20260421T125046Z
DTSTART:20250421T180000Z
DURATION:PT1H40M
DESCRIPTION:Practice: 45m0s\nQualify: 15m0s\nRace: 20m0s\nRace (Reverse Grid): 20m0s\n\n28 entrants in: Mazda MX5 Cup
LOCATION:, 
SUMMARY:Event at Mid Ohio with Chicane, ,  (2025 EU MX5 Open Season)
URL;VALUE=URI:https://eu.mx5.ac.tekly.racing/championship/7181cd2d-b915-4606-86cd-aac1b8c222c9
END:VEVENT
BEGIN:VEVENT
UID:d2adf7e3-0205-4566-a180-b6e6ed00db7e
DTSTAMP:20260421T125046Z
DTSTART:20250428T180000Z
DURATION:PT1H40M
DESCRIPTION:Practice: 45m0s\nQualify: 15m0s\nRace: 20m0s\nRace (Reverse Grid): 20m0s\n\n28 entrants in: Mazda MX5 Cup
LOCATION:Pinellas County, Florida, USA
SUMMARY:Event at Grand Prix of St. Petersburg, Pinellas County, Florida, USA (2025 EU MX5 Open Season)
URL;VALUE=URI:https://eu.mx5.ac.tekly.racing/championship/7181cd2d-b915-4606-86cd-aac1b8c222c9
END:VEVENT
BEGIN:VEVENT
UID:08318720-e757-48f3-a317-bdb3f3fc658c
DTSTAMP:20260421T125046Z
DTSTART:20250512T180000Z
DURATION:PT1H40M
DESCRIPTION:Practice: 45m0s\nQualify: 15m0s\nRace: 20m0s\nRace (Reverse Grid): 20m0s\n\n28 entrants in: Mazda MX5 Cup
LOCATION:Clermont-Ferrand, France
SUMMARY:Event at circuit_charade2023, Clermont-Ferrand, France (2025 EU MX5 Open Season)
URL;VALUE=URI:https://eu.mx5.ac.tekly.racing/championship/7181cd2d-b915-4606-86cd-aac1b8c222c9
END:VEVENT
BEGIN:VEVENT
UID:2ec0dcbd-2637-4067-86e2-df7586b9920a
DTSTAMP:20260421T125046Z
DTSTART:20250526T180000Z
DURATION:PT1H40M
DESCRIPTION:Practice: 45m0s\nQualify: 15m0s\nRace: 20m0s\nRace (Reverse Grid): 20m0s\n\n28 entrants in: Mazda MX5 Cup
LOCATION:Little Budworth, Tarporley, Cheshire, Great Britain
SUMMARY:Event at Oulton Park - International 2022, Little Budworth, Tarporley, Cheshire, Great Britain (2025 EU MX5 Open Season)
URL;VALUE=URI:https://eu.mx5.ac.tekly.racing/championship/7181cd2d-b915-4606-86cd-aac1b8c222c9
END:VEVENT
BEGIN:VEVENT
UID:37fdb722-6ec5-43ff-8f20-1d345d42cb15
DTSTAMP:20260421T125046Z
DTSTART:20250616T180000Z
DURATION:PT1H40M
DESCRIPTION:Practice: 45m0s\nQualify: 15m0s\nRace: 20m0s\nRace (Reverse Grid): 20m0s\n\n28 entrants in: Mazda MX5 Cup
LOCATION:Bathurst, Australia
SUMMARY:Event at Bathurst, Bathurst, Australia (2025 EU MX5 Open Season)
URL;VALUE=URI:https://eu.mx5.ac.tekly.racing/championship/7181cd2d-b915-4606-86cd-aac1b8c222c9
END:VEVENT
END:VCALENDAR