BEGIN:VCALENDAR
VERSION:2.0
PRODID:-//taviti/caldav-go//NONSGML v1.0.0//EN
BEGIN:VEVENT
UID:12e00d94-f6a1-45bc-88db-8934d34a27dd
DTSTAMP:20260421T123015Z
DTSTART:20250707T180000Z
DURATION:PT1H40M
DESCRIPTION:Practice: 30m0s\nQualify: 30m0s\nRace: 20m0s\nRace (Reverse Grid): 20m0s\n\n20 entrants in: Mazda MX5 Cup
LOCATION:Andover, Great Britain
SUMMARY:Event at Thruxton, Andover, Great Britain (EU RRR MX5 Open Season 2)
URL;VALUE=URI:https://eu.mx5.ac.tekly.racing/championship/85ffd8f5-02e1-43fd-addf-4b5ea2b09ddf
END:VEVENT
BEGIN:VEVENT
UID:5ca8ea6a-0023-44b8-a37f-ec8f43251db5
DTSTAMP:20260421T123015Z
DTSTART:20250714T180000Z
DURATION:PT1H40M
DESCRIPTION:Practice: 30m0s\nQualify: 30m0s\nRace: 20m0s\nRace (Reverse Grid): 20m0s\n\n20 entrants in: Mazda MX5 Cup
LOCATION:Watkins Glen, USA
SUMMARY:Event at Watkins Glen Boot, Watkins Glen, USA (EU RRR MX5 Open Season 2)
URL;VALUE=URI:https://eu.mx5.ac.tekly.racing/championship/85ffd8f5-02e1-43fd-addf-4b5ea2b09ddf
END:VEVENT
BEGIN:VEVENT
UID:a441e468-ff8b-4270-b46e-8d882f4dcec6
DTSTAMP:20260421T123015Z
DTSTART:20250804T180000Z
DURATION:PT1H40M
DESCRIPTION:Practice: 30m0s\nQualify: 30m0s\nRace: 20m0s\nRace (Reverse Grid): 20m0s\n\n20 entrants in: Mazda MX5 Cup
LOCATION:Spielberg, Austria
SUMMARY:Event at Red Bull Ring National, Spielberg, Austria (EU RRR MX5 Open Season 2)
URL;VALUE=URI:https://eu.mx5.ac.tekly.racing/championship/85ffd8f5-02e1-43fd-addf-4b5ea2b09ddf
END:VEVENT
BEGIN:VEVENT
UID:9b769976-4fef-4957-a288-c07bd623be00
DTSTAMP:20260421T123015Z
DTSTART:20250818T180000Z
DURATION:PT1H40M
DESCRIPTION:Practice: 30m0s\nQualify: 30m0s\nRace: 20m0s\nRace (Reverse Grid): 20m0s\n\n20 entrants in: Mazda MX5 Cup
LOCATION:Oyama-Cho, Sunto District Shizuoka Pref., Japan
SUMMARY:Event at Fuji Speedway GP Short, Oyama-Cho, Sunto District Shizuoka Pref., Japan (EU RRR MX5 Open Season 2)
URL;VALUE=URI:https://eu.mx5.ac.tekly.racing/championship/85ffd8f5-02e1-43fd-addf-4b5ea2b09ddf
END:VEVENT
BEGIN:VEVENT
UID:8d6eb752-3b0d-453a-bd6d-6338becdf7ee
DTSTAMP:20260421T123015Z
DTSTART:20250901T180000Z
DURATION:PT1H40M
DESCRIPTION:Practice: 30m0s\nQualify: 30m0s\nRace: 20m0s\nRace (Reverse Grid): 20m0s\n\n20 entrants in: Mazda MX5 Cup
LOCATION:Monza (MI), Italy
SUMMARY:Event at Monza 1966 - Junior Course, Monza (MI), Italy (EU RRR MX5 Open Season 2)
URL;VALUE=URI:https://eu.mx5.ac.tekly.racing/championship/85ffd8f5-02e1-43fd-addf-4b5ea2b09ddf
END:VEVENT
BEGIN:VEVENT
UID:22cdc4f1-1fbe-4edb-9a31-b80a3c59e309
DTSTAMP:20260421T123015Z
DTSTART:20250915T180000Z
DURATION:PT1H40M
DESCRIPTION:Practice: 30m0s\nQualify: 30m0s\nRace: 20m0s\nRace (Reverse Grid): 20m0s\n\n20 entrants in: Mazda MX5 Cup
LOCATION:Silverstone, Great Britain
SUMMARY:Event at Silverstone - International, Silverstone, Great Britain (EU RRR MX5 Open Season 2)
URL;VALUE=URI:https://eu.mx5.ac.tekly.racing/championship/85ffd8f5-02e1-43fd-addf-4b5ea2b09ddf
END:VEVENT
BEGIN:VEVENT
UID:abf44a6a-5281-4243-8fd2-202da5969973
DTSTAMP:20260421T123015Z
DTSTART:20250929T180000Z
DURATION:PT1H40M
DESCRIPTION:Practice: 30m0s\nQualify: 30m0s\nRace: 20m0s\nRace (Reverse Grid): 20m0s\n\n20 entrants in: Mazda MX5 Cup
LOCATION:Scarperia, Italy
SUMMARY:Event at Mugello, Scarperia, Italy (EU RRR MX5 Open Season 2)
URL;VALUE=URI:https://eu.mx5.ac.tekly.racing/championship/85ffd8f5-02e1-43fd-addf-4b5ea2b09ddf
END:VEVENT
END:VCALENDAR