BEGIN:VCALENDAR
VERSION:2.0
PRODID:-//taviti/caldav-go//NONSGML v1.0.0//EN
BEGIN:VEVENT
UID:990fa5cb-2c54-4faa-be9b-879a73fe22d4
DTSTAMP:20260421T122657Z
DTSTART:20260406T170000Z
DURATION:PT1H40M
DESCRIPTION:Practice: 30m0s\nQualify: 30m0s\nRace: 20m0s\nRace (Reverse Grid): 20m0s\n\n29 entrants in: Mazda MX5 Cup
LOCATION:São Paulo, Brazil
SUMMARY:Event at Interlagos - WEC Track, São Paulo, Brazil (EU - MX5 - Real Rookie Racing Open Season 11 - https://tekly.racing)
URL;VALUE=URI:https://eu.mx5.ac.tekly.racing/championship/b161075a-a688-48d9-af9c-1455943d09a6
END:VEVENT
BEGIN:VEVENT
UID:8d780666-2edc-4828-8997-bb27afc79408
DTSTAMP:20260421T122657Z
DTSTART:20260413T170000Z
DURATION:PT1H40M
DESCRIPTION:Practice: 30m0s\nQualify: 30m0s\nRace: 20m0s\nRace (Reverse Grid): 20m0s\n\n29 entrants in: Mazda MX5 Cup
LOCATION:Okayama, Japan
SUMMARY:Event at Okayama Grand Prix, Okayama, Japan (EU - MX5 - Real Rookie Racing Open Season 11 - https://tekly.racing)
URL;VALUE=URI:https://eu.mx5.ac.tekly.racing/championship/b161075a-a688-48d9-af9c-1455943d09a6
END:VEVENT
BEGIN:VEVENT
UID:a8935635-77d8-4b7f-ae32-ff3a2675da73
DTSTAMP:20260421T122657Z
DTSTART:20260420T170000Z
DURATION:PT1H45M
DESCRIPTION:Practice: 30m0s\nQualify: 30m0s\nRace: 45m0s\n\n29 entrants in: Mazda MX5 Cup
LOCATION:Sebring, USA
SUMMARY:Event at Sebring International Raceway (Raceday), Sebring, USA (EU - MX5 - Real Rookie Racing Open Season 11 - https://tekly.racing)
URL;VALUE=URI:https://eu.mx5.ac.tekly.racing/championship/b161075a-a688-48d9-af9c-1455943d09a6
END:VEVENT
BEGIN:VEVENT
UID:e2dd9123-08db-463a-8133-3dcd39f6a4bc
DTSTAMP:20260421T122657Z
DTSTART:20260427T170000Z
DURATION:PT1H40M
DESCRIPTION:Practice: 30m0s\nQualify: 30m0s\nRace: 20m0s\nRace (Reverse Grid): 20m0s\n\n29 entrants in: Mazda MX5 Cup
LOCATION:, 
SUMMARY:Event at Mid Ohio with Chicane, ,  (EU - MX5 - Real Rookie Racing Open Season 11 - https://tekly.racing)
URL;VALUE=URI:https://eu.mx5.ac.tekly.racing/championship/b161075a-a688-48d9-af9c-1455943d09a6
END:VEVENT
BEGIN:VEVENT
UID:501cde38-598b-4a4d-a9af-8d527b6eef4b
DTSTAMP:20260421T122657Z
DTSTART:20260504T170000Z
DURATION:PT1H40M
DESCRIPTION:Practice: 30m0s\nQualify: 30m0s\nRace: 20m0s\nRace (Reverse Grid): 20m0s\n\n29 entrants in: Mazda MX5 Cup
LOCATION:Sears Point, Sonoma, California, USA
SUMMARY:Event at Sonoma Raceway WTCC Circuit, Sears Point, Sonoma, California, USA (EU - MX5 - Real Rookie Racing Open Season 11 - https://tekly.racing)
URL;VALUE=URI:https://eu.mx5.ac.tekly.racing/championship/b161075a-a688-48d9-af9c-1455943d09a6
END:VEVENT
BEGIN:VEVENT
UID:9202d497-dccd-4717-92ac-992bbefdc4b4
DTSTAMP:20260421T122657Z
DTSTART:20260511T170000Z
DURATION:PT1H45M
DESCRIPTION:Practice: 30m0s\nQualify: 30m0s\nRace: 45m0s\n\n29 entrants in: Mazda MX5 Cup
LOCATION:Zandvoort, Netherlands
SUMMARY:Event at Circuit Zandvoort 2023, Zandvoort, Netherlands (EU - MX5 - Real Rookie Racing Open Season 11 - https://tekly.racing)
URL;VALUE=URI:https://eu.mx5.ac.tekly.racing/championship/b161075a-a688-48d9-af9c-1455943d09a6
END:VEVENT
BEGIN:VEVENT
UID:a7c5af12-1762-4a97-89e6-fdf5c4e4b3f7
DTSTAMP:20260421T122657Z
DTSTART:20260518T170000Z
DURATION:PT1H40M
DESCRIPTION:Practice: 30m0s\nQualify: 30m0s\nRace: 20m0s\nRace (Reverse Grid): 20m0s\n\n29 entrants in: Mazda MX5 Cup
LOCATION:Heusden-Zolder, Belgium
SUMMARY:Event at Circuit Zolder, Heusden-Zolder, Belgium (EU - MX5 - Real Rookie Racing Open Season 11 - https://tekly.racing)
URL;VALUE=URI:https://eu.mx5.ac.tekly.racing/championship/b161075a-a688-48d9-af9c-1455943d09a6
END:VEVENT
BEGIN:VEVENT
UID:1d932897-ef8a-4e46-9400-474deb784e1d
DTSTAMP:20260421T122657Z
DTSTART:20260525T170000Z
DURATION:PT1H40M
DESCRIPTION:Practice: 30m0s\nQualify: 30m0s\nRace: 20m0s\nRace (Reverse Grid): 20m0s\n\n29 entrants in: Mazda MX5 Cup
LOCATION:Portland, USA
SUMMARY:Event at Portland International Raceway, Portland, USA (EU - MX5 - Real Rookie Racing Open Season 11 - https://tekly.racing)
URL;VALUE=URI:https://eu.mx5.ac.tekly.racing/championship/b161075a-a688-48d9-af9c-1455943d09a6
END:VEVENT
BEGIN:VEVENT
UID:c1a8c384-376c-4b25-ab7c-c898639e4cdc
DTSTAMP:20260421T122657Z
DTSTART:20260601T170000Z
DURATION:PT1H45M
DESCRIPTION:Practice: 30m0s\nQualify: 30m0s\nRace: 45m0s\n\n29 entrants in: Mazda MX5 Cup
LOCATION:Fawkham, Great Britain
SUMMARY:Event at Brands Hatch - GP OSRW, Fawkham, Great Britain (EU - MX5 - Real Rookie Racing Open Season 11 - https://tekly.racing)
URL;VALUE=URI:https://eu.mx5.ac.tekly.racing/championship/b161075a-a688-48d9-af9c-1455943d09a6
END:VEVENT
BEGIN:VEVENT
UID:f404d96a-e691-4780-8e40-c3ca0a519fab
DTSTAMP:20260421T122657Z
DTSTART:20260608T170000Z
DURATION:PT1H40M
DESCRIPTION:Practice: 30m0s\nQualify: 30m0s\nRace: 20m0s\nRace (Reverse Grid): 20m0s\n\n29 entrants in: Mazda MX5 Cup
LOCATION:Nuernberg, Germany
SUMMARY:Event at Norisring, Nuernberg, Germany (EU - MX5 - Real Rookie Racing Open Season 11 - https://tekly.racing)
URL;VALUE=URI:https://eu.mx5.ac.tekly.racing/championship/b161075a-a688-48d9-af9c-1455943d09a6
END:VEVENT
BEGIN:VEVENT
UID:c8aa3bb0-03c3-45f5-a020-183c2fbe564a
DTSTAMP:20260421T122657Z
DTSTART:20260615T170000Z
DURATION:PT1H45M
DESCRIPTION:Practice: 30m0s\nQualify: 30m0s\nRace: 45m0s\n\n29 entrants in: Mazda MX5 Cup
LOCATION:Oschersleben, Germany
SUMMARY:Event at Oschersleben Moto, Oschersleben, Germany (EU - MX5 - Real Rookie Racing Open Season 11 - https://tekly.racing)
URL;VALUE=URI:https://eu.mx5.ac.tekly.racing/championship/b161075a-a688-48d9-af9c-1455943d09a6
END:VEVENT
BEGIN:VEVENT
UID:cf54786a-c117-452b-96e6-cb49cf4daf03
DTSTAMP:20260421T122657Z
DTSTART:20260622T170000Z
DURATION:PT1H40M
DESCRIPTION:Practice: 30m0s\nQualify: 30m0s\nRace: 20m0s\nRace (Reverse Grid): 20m0s\n\n29 entrants in: Mazda MX5 Cup
LOCATION:Charlotte, North Carolina, USA
SUMMARY:Event at Charlotte Motor Speedway Roval, Charlotte, North Carolina, USA (EU - MX5 - Real Rookie Racing Open Season 11 - https://tekly.racing)
URL;VALUE=URI:https://eu.mx5.ac.tekly.racing/championship/b161075a-a688-48d9-af9c-1455943d09a6
END:VEVENT
BEGIN:VEVENT
UID:0e2485dc-ce87-4929-9595-bb67b1a9b187
DTSTAMP:20260421T122657Z
DTSTART:20260629T170000Z
DURATION:PT1H50M
DESCRIPTION:Practice: 25m0s\nQualify: 25m0s\nRace: 1h0m0s\n\n29 entrants in: Mazda MX5 Cup
LOCATION:Bathurst, Australia
SUMMARY:Event at Bathurst (Mount Panorama), Bathurst, Australia (EU - MX5 - Real Rookie Racing Open Season 11 - https://tekly.racing)
URL;VALUE=URI:https://eu.mx5.ac.tekly.racing/championship/b161075a-a688-48d9-af9c-1455943d09a6
END:VEVENT
END:VCALENDAR