BEGIN:VCALENDAR
VERSION:2.0
PRODID:-//taviti/caldav-go//NONSGML v1.0.0//EN
BEGIN:VEVENT
UID:ccf6f9df-c5b5-4278-982e-ad0c8a82f174
DTSTAMP:20260421T125128Z
DTSTART:20241216T190000Z
DURATION:PT1H40M
DESCRIPTION:Practice: 45m0s\nQualify: 15m0s\nRace: 20m0s\nRace (Reverse Grid): 20m0s\n\n30 entrants in: Mazda MX5 Cup
SUMMARY:Event at Lilski Calabogie (Stadium) (EU MX5 - Calabogie)
URL;VALUE=URI:https://eu.mx5.ac.tekly.racing/championship/bfe3721f-8b82-4f17-9c25-c3aa453bf06d
END:VEVENT
END:VCALENDAR