BEGIN:VCALENDAR
VERSION:2.0
PRODID:-//taviti/caldav-go//NONSGML v1.0.0//EN
BEGIN:VEVENT
UID:d938dc02-7ece-4a0d-8298-9df233f25c8e
DTSTAMP:20260421T124107Z
DTSTART:20250120T190000Z
DURATION:PT1H40M
DESCRIPTION:Practice: 45m0s\nQualify: 15m0s\nRace: 20m0s\nRace (Reverse Grid): 20m0s\n\n30 entrants in: Mazda MX5 Cup
SUMMARY:Event at Bilsterberg (Bilsterberg Chicane) (EU MX5 - Bilster Berg)
URL;VALUE=URI:https://eu.mx5.ac.tekly.racing/championship/cbe84f3f-b893-4162-9144-cd6d31078d33
END:VEVENT
END:VCALENDAR