BEGIN:VCALENDAR
VERSION:2.0
PRODID:-//taviti/caldav-go//NONSGML v1.0.0//EN
BEGIN:VEVENT
UID:8a4f0e8e-ba96-465c-9934-a02dd78164ae
DTSTAMP:20260421T093953Z
DTSTART:20260105T180000Z
DURATION:PT1H40M
DESCRIPTION:Practice: 30m0s\nQualify: 30m0s\nRace: 20m0s\nRace (Reverse Grid): 20m0s\n\n29 entrants in: Mazda MX5 Cup
LOCATION:Eastern Creek NSW, Australia
SUMMARY:Event at Sydney Motorsport Park - Druitt North Circuit, Eastern Creek NSW, Australia (EU - MX5 - Real Rookie Racing Open Season 10 - https://tekly.racing)
URL;VALUE=URI:https://eu.mx5.ac.tekly.racing/championship/cf03ac53-9b1b-46cc-b1f0-e9a498a721c2
END:VEVENT
BEGIN:VEVENT
UID:c7a1c0f8-52ca-4e52-9ab6-3f5205660115
DTSTAMP:20260421T093953Z
DTSTART:20260112T180000Z
DURATION:PT1H40M
DESCRIPTION:Practice: 30m0s\nQualify: 30m0s\nRace: 20m0s\nRace (Reverse Grid): 20m0s\n\n29 entrants in: Mazda MX5 Cup
LOCATION:Monte Carlo, Monaco
SUMMARY:Event at Monaco 1966 family edition_[THR], Monte Carlo, Monaco (EU - MX5 - Real Rookie Racing Open Season 10 - https://tekly.racing)
URL;VALUE=URI:https://eu.mx5.ac.tekly.racing/championship/cf03ac53-9b1b-46cc-b1f0-e9a498a721c2
END:VEVENT
BEGIN:VEVENT
UID:ec2a7dc7-6386-4117-ba7e-36505a27e319
DTSTAMP:20260421T093953Z
DTSTART:20260119T180000Z
DURATION:PT1H45M
DESCRIPTION:Practice: 30m0s\nQualify: 30m0s\nRace: 45m0s\n\n29 entrants in: Mazda MX5 Cup
LOCATION:Willow Springs, USA
SUMMARY:Event at Willow Springs - Big Willow, Willow Springs, USA (EU - MX5 - Real Rookie Racing Open Season 10 - https://tekly.racing)
URL;VALUE=URI:https://eu.mx5.ac.tekly.racing/championship/cf03ac53-9b1b-46cc-b1f0-e9a498a721c2
END:VEVENT
BEGIN:VEVENT
UID:52aeccb3-2fd7-4535-9e6f-e444e99db5ed
DTSTAMP:20260421T093953Z
DTSTART:20260126T180000Z
DURATION:PT1H40M
DESCRIPTION:Practice: 30m0s\nQualify: 30m0s\nRace: 20m0s\nRace (Reverse Grid): 20m0s\n\n29 entrants in: Mazda MX5 Cup
LOCATION:Portland, USA
SUMMARY:Event at Portland International Raceway No Chicane, Portland, USA (EU - MX5 - Real Rookie Racing Open Season 10 - https://tekly.racing)
URL;VALUE=URI:https://eu.mx5.ac.tekly.racing/championship/cf03ac53-9b1b-46cc-b1f0-e9a498a721c2
END:VEVENT
BEGIN:VEVENT
UID:ee4c20e8-4c0d-420a-9410-0c45e0f85ed0
DTSTAMP:20260421T093953Z
DTSTART:20260202T180000Z
DURATION:PT1H40M
DESCRIPTION:Practice: 30m0s\nQualify: 30m0s\nRace: 20m0s\nRace (Reverse Grid): 20m0s\n\n29 entrants in: Mazda MX5 Cup
LOCATION:Detroit, USA
SUMMARY:Event at Detroit Belle Isle 2021, Detroit, USA (EU - MX5 - Real Rookie Racing Open Season 10 - https://tekly.racing)
URL;VALUE=URI:https://eu.mx5.ac.tekly.racing/championship/cf03ac53-9b1b-46cc-b1f0-e9a498a721c2
END:VEVENT
BEGIN:VEVENT
UID:5fba42b4-6fee-47f9-89d8-8f5ca2878948
DTSTAMP:20260421T093953Z
DTSTART:20260209T180000Z
DURATION:PT1H45M
DESCRIPTION:Practice: 30m0s\nQualify: 30m0s\nRace: 45m0s\n\n29 entrants in: Mazda MX5 Cup
LOCATION:Riga, Latvia
SUMMARY:Event at Bikernieki - High Speed Ring, Riga, Latvia (EU - MX5 - Real Rookie Racing Open Season 10 - https://tekly.racing)
URL;VALUE=URI:https://eu.mx5.ac.tekly.racing/championship/cf03ac53-9b1b-46cc-b1f0-e9a498a721c2
END:VEVENT
BEGIN:VEVENT
UID:ec656ee7-8a5b-4fd5-a67c-d5dd40743c64
DTSTAMP:20260421T093953Z
DTSTART:20260216T180000Z
DURATION:PT1H40M
DESCRIPTION:Practice: 30m0s\nQualify: 30m0s\nRace: 20m0s\nRace (Reverse Grid): 20m0s\n\n29 entrants in: Mazda MX5 Cup
LOCATION:Chichester, Great Britain
SUMMARY:Event at Goodwood, Chichester, Great Britain (EU - MX5 - Real Rookie Racing Open Season 10 - https://tekly.racing)
URL;VALUE=URI:https://eu.mx5.ac.tekly.racing/championship/cf03ac53-9b1b-46cc-b1f0-e9a498a721c2
END:VEVENT
BEGIN:VEVENT
UID:1e670e53-cacb-40bc-b2fb-9e248f695646
DTSTAMP:20260421T093953Z
DTSTART:20260223T180000Z
DURATION:PT1H40M
DESCRIPTION:Practice: 30m0s\nQualify: 30m0s\nRace: 20m0s\nRace (Reverse Grid): 20m0s\n\n29 entrants in: Mazda MX5 Cup
LOCATION:, 
SUMMARY:Event at Pascani Motorpark O, ,  (EU - MX5 - Real Rookie Racing Open Season 10 - https://tekly.racing)
URL;VALUE=URI:https://eu.mx5.ac.tekly.racing/championship/cf03ac53-9b1b-46cc-b1f0-e9a498a721c2
END:VEVENT
BEGIN:VEVENT
UID:1eabbcd5-3150-4cb7-bb14-9905f9e5c2fc
DTSTAMP:20260421T093953Z
DTSTART:20260302T180000Z
DURATION:PT1H45M
DESCRIPTION:Practice: 30m0s\nQualify: 30m0s\nRace: 45m0s\n\n29 entrants in: Mazda MX5 Cup
LOCATION:Poznan, Poland
SUMMARY:Event at Tor Poznań, Poznan, Poland (EU - MX5 - Real Rookie Racing Open Season 10 - https://tekly.racing)
URL;VALUE=URI:https://eu.mx5.ac.tekly.racing/championship/cf03ac53-9b1b-46cc-b1f0-e9a498a721c2
END:VEVENT
BEGIN:VEVENT
UID:369c13c1-54df-4a28-94d7-e64e5ca9c594
DTSTAMP:20260421T093953Z
DTSTART:20260309T180000Z
DURATION:PT1H40M
DESCRIPTION:Practice: 30m0s\nQualify: 30m0s\nRace: 20m0s\nRace (Reverse Grid): 20m0s\n\n29 entrants in: Mazda MX5 Cup
LOCATION:Moscow, Russia
SUMMARY:Event at Moscow Raceway Sprint, Moscow, Russia (EU - MX5 - Real Rookie Racing Open Season 10 - https://tekly.racing)
URL;VALUE=URI:https://eu.mx5.ac.tekly.racing/championship/cf03ac53-9b1b-46cc-b1f0-e9a498a721c2
END:VEVENT
BEGIN:VEVENT
UID:b9192989-bace-47db-8e3b-ae1dc4bbe705
DTSTAMP:20260421T093953Z
DTSTART:20260316T180000Z
DURATION:PT1H45M
DESCRIPTION:Practice: 30m0s\nQualify: 30m0s\nRace: 45m0s\n\n29 entrants in: Mazda MX5 Cup
LOCATION:St-Jovite, Canada
SUMMARY:Event at Le Circuit Mont-Tremblant 1969 - Grand Prix (League), St-Jovite, Canada (EU - MX5 - Real Rookie Racing Open Season 10 - https://tekly.racing)
URL;VALUE=URI:https://eu.mx5.ac.tekly.racing/championship/cf03ac53-9b1b-46cc-b1f0-e9a498a721c2
END:VEVENT
BEGIN:VEVENT
UID:39143efd-8f6b-4497-905e-388de5cb8700
DTSTAMP:20260421T093953Z
DTSTART:20260323T180000Z
DURATION:PT1H40M
DESCRIPTION:Practice: 30m0s\nQualify: 30m0s\nRace: 20m0s\nRace (Reverse Grid): 20m0s\n\n29 entrants in: Mazda MX5 Cup
LOCATION:blank, USA
SUMMARY:Event at Washington DC - Capitol Hill, blank, USA (EU - MX5 - Real Rookie Racing Open Season 10 - https://tekly.racing)
URL;VALUE=URI:https://eu.mx5.ac.tekly.racing/championship/cf03ac53-9b1b-46cc-b1f0-e9a498a721c2
END:VEVENT
BEGIN:VEVENT
UID:18856b36-5ca7-4645-81df-2aa3930a2b84
DTSTAMP:20260421T093953Z
DTSTART:20260330T170000Z
DURATION:PT1H50M
DESCRIPTION:Practice: 25m0s\nQualify: 25m0s\nRace: 1h0m0s\n\n29 entrants in: Mazda MX5 Cup
LOCATION:Monterey, USA
SUMMARY:Event at Laguna Seca OSRW, Monterey, USA (EU - MX5 - Real Rookie Racing Open Season 10 - https://tekly.racing)
URL;VALUE=URI:https://eu.mx5.ac.tekly.racing/championship/cf03ac53-9b1b-46cc-b1f0-e9a498a721c2
END:VEVENT
END:VCALENDAR