BEGIN:VCALENDAR
VERSION:2.0
PRODID:-//taviti/caldav-go//NONSGML v1.0.0//EN
BEGIN:VEVENT
UID:6326ad24-5c14-485a-a616-26a1f2e16bde
DTSTAMP:20260421T124107Z
DTSTART:20250106T190000Z
DURATION:PT1H40M
DESCRIPTION:Practice: 45m0s\nQualify: 15m0s\nRace: 20m0s\nRace (Reverse Grid): 20m0s\n\n28 entrants in: Mazda MX5 Cup
SUMMARY:Event at Baltimore2013 (Virtual) (EU MX5 - Baltimore)
URL;VALUE=URI:https://eu.mx5.ac.tekly.racing/championship/ebddaaae-d214-4abe-b645-a4b797854bb3
END:VEVENT
END:VCALENDAR