BEGIN:VCALENDAR
VERSION:2.0
PRODID:-//taviti/caldav-go//NONSGML v1.0.0//EN
BEGIN:VEVENT
UID:5de5b6a9-202f-4e0e-a9ff-313fdf88d1cc
DTSTAMP:20260421T122938Z
DTSTART:20250203T190000Z
DURATION:PT1H45M
DESCRIPTION:Practice: 30m0s\nQualify: 30m0s\nRace: 45m0s\n\n30 entrants in: Mazda MX5 Cup
SUMMARY:Event at Deutschlandring (EU MX5 - Deutschlandsring)
URL;VALUE=URI:https://eu.mx5.ac.tekly.racing/championship/fb1e87fc-4b5c-4ace-9a36-e7eb9c3a715b
END:VEVENT
END:VCALENDAR